BEGIN:VCALENDAR
VERSION:2.0
PRODID:-//Coalition on Positive Health Empowerment - ECPv6.15.20//NONSGML v1.0//EN
CALSCALE:GREGORIAN
METHOD:PUBLISH
X-WR-CALNAME:Coalition on Positive Health Empowerment
X-ORIGINAL-URL:https://copehealth.org
X-WR-CALDESC:Events for Coalition on Positive Health Empowerment
REFRESH-INTERVAL;VALUE=DURATION:PT1H
X-Robots-Tag:noindex
X-PUBLISHED-TTL:PT1H
BEGIN:VTIMEZONE
TZID:UTC
BEGIN:STANDARD
TZOFFSETFROM:+0000
TZOFFSETTO:+0000
TZNAME:UTC
DTSTART:20200101T000000
END:STANDARD
END:VTIMEZONE
BEGIN:VTIMEZONE
TZID:America/New_York
BEGIN:DAYLIGHT
TZOFFSETFROM:-0500
TZOFFSETTO:-0400
TZNAME:EDT
DTSTART:20210314T070000
END:DAYLIGHT
BEGIN:STANDARD
TZOFFSETFROM:-0400
TZOFFSETTO:-0500
TZNAME:EST
DTSTART:20211107T060000
END:STANDARD
BEGIN:DAYLIGHT
TZOFFSETFROM:-0500
TZOFFSETTO:-0400
TZNAME:EDT
DTSTART:20220313T070000
END:DAYLIGHT
BEGIN:STANDARD
TZOFFSETFROM:-0400
TZOFFSETTO:-0500
TZNAME:EST
DTSTART:20221106T060000
END:STANDARD
BEGIN:DAYLIGHT
TZOFFSETFROM:-0500
TZOFFSETTO:-0400
TZNAME:EDT
DTSTART:20230312T070000
END:DAYLIGHT
BEGIN:STANDARD
TZOFFSETFROM:-0400
TZOFFSETTO:-0500
TZNAME:EST
DTSTART:20231105T060000
END:STANDARD
END:VTIMEZONE
BEGIN:VEVENT
DTSTART;TZID=UTC:20221003T150000
DTEND;TZID=UTC:20221003T160000
DTSTAMP:20260421T074236
CREATED:20220913T202256Z
LAST-MODIFIED:20220913T202256Z
UID:9904-1664809200-1664812800@copehealth.org
SUMMARY:Let's Get Moving - Let's Get Healthy
DESCRIPTION:
URL:https://copehealth.org/event/lets-get-moving-lets-get-healthy/
LOCATION:NY
CATEGORIES:Events Category
END:VEVENT
BEGIN:VEVENT
DTSTART;TZID=America/New_York:20220721T150000
DTEND;TZID=America/New_York:20220721T170000
DTSTAMP:20260421T074236
CREATED:20221117T112131Z
LAST-MODIFIED:20221117T112131Z
UID:9950-1658415600-1658422800@copehealth.org
SUMMARY:Sickle Cell Workshop
DESCRIPTION:
URL:https://copehealth.org/event/sickle-cell-workshop/
LOCATION:NY
END:VEVENT
BEGIN:VEVENT
DTSTART;TZID=America/New_York:20220317T150000
DTEND;TZID=America/New_York:20220317T170000
DTSTAMP:20260421T074236
CREATED:20230726T212550Z
LAST-MODIFIED:20230726T212550Z
UID:10010-1647529200-1647536400@copehealth.org
SUMMARY:Aging Well with HIV
DESCRIPTION:
URL:https://copehealth.org/event/aging-well-with-hiv/
LOCATION:NY
END:VEVENT
BEGIN:VEVENT
DTSTART;TZID=UTC:20220301T080000
DTEND;TZID=UTC:20220301T170000
DTSTAMP:20260421T074236
CREATED:20220204T095933Z
LAST-MODIFIED:20220421T211152Z
UID:9220-1646121600-1646154000@copehealth.org
SUMMARY:Mindfulness & Well-Being
DESCRIPTION:The mind-body connection is the belief that our thoughts\, feelings\, beliefs\, and attitudes can positively or negatively affect how healthy our minds and bodies are.
URL:https://copehealth.org/event/mindfulness_well_being/
LOCATION:NY
ATTACH;FMTTYPE=image/jpeg:https://copehealth.org/wp-content/uploads/2022/02/Copy-of-Wellness-Transformation.jpg
END:VEVENT
BEGIN:VEVENT
DTSTART;VALUE=DATE:20211207
DTEND;VALUE=DATE:20211208
DTSTAMP:20260421T074236
CREATED:20220204T100052Z
LAST-MODIFIED:20220218T235034Z
UID:9224-1638835200-1638921599@copehealth.org
SUMMARY:OUTREACH & SCREENING
DESCRIPTION:Screenings are medical tests that check for diseases and health conditions before there are any signs or symptoms. Screenings help find problems early on\, when they may be easier to treat. Getting recommended screenings is one of the most important things you can do for your health.
URL:https://copehealth.org/event/outreach_screening/
LOCATION:NY
ATTACH;FMTTYPE=image/jpeg:https://copehealth.org/wp-content/uploads/2022/02/health-fair.jpg
END:VEVENT
BEGIN:VEVENT
DTSTART;VALUE=DATE:20211202
DTEND;VALUE=DATE:20211203
DTSTAMP:20260421T074236
CREATED:20220204T191702Z
LAST-MODIFIED:20220218T235039Z
UID:9322-1638403200-1638489599@copehealth.org
SUMMARY:Public Health Policy Advocacy
DESCRIPTION:Change happens not just because we know something\, but because something about how we feel has shifted. That is why Peer Advocacy is the core of COPE’s public policy work.
URL:https://copehealth.org/event/public-health-policy-advocacy/
LOCATION:NY
ATTACH;FMTTYPE=image/jpeg:https://copehealth.org/wp-content/uploads/2022/02/World-AIDS-Day12.02.2021-8-733x1024-1.jpg
END:VEVENT
BEGIN:VEVENT
DTSTART;VALUE=DATE:20211118
DTEND;VALUE=DATE:20211119
DTSTAMP:20260421T074236
CREATED:20220204T190241Z
LAST-MODIFIED:20220218T235045Z
UID:9319-1637193600-1637279999@copehealth.org
SUMMARY:BUILDING COMMUNITY
DESCRIPTION:Community is critical to our overall wellbeing. The decline of connectedness is a widespread problem affecting our mental and physical health.
URL:https://copehealth.org/event/building-community/
LOCATION:NY
ATTACH;FMTTYPE=image/jpeg:https://copehealth.org/wp-content/uploads/2022/02/Holiday-Fun-Time-11.18.21-7-680x1024-1.jpg
END:VEVENT
BEGIN:VEVENT
DTSTART;VALUE=DATE:20210624
DTEND;VALUE=DATE:20210625
DTSTAMP:20260421T074236
CREATED:20220204T095939Z
LAST-MODIFIED:20220218T235052Z
UID:9222-1624492800-1624579199@copehealth.org
SUMMARY:FOSTERING GOOD HEALTH
DESCRIPTION:COPE embraces the World Health Organization of health as “a state of complete physical\, mental and social well-being and not merely the absence of disease or infirmity.”
URL:https://copehealth.org/event/fostering_good_health/
LOCATION:NY
ATTACH;FMTTYPE=image/jpeg:https://copehealth.org/wp-content/uploads/2022/02/Healthy-Bodies-Workshop.jpg
END:VEVENT
END:VCALENDAR